BEGIN:VCALENDAR
VERSION:2.0
PRODID:Imitheme.com 
BEGIN:VEVENT
UID:20260421T10261549201071
DTSTAMP;TZID=UTC:20260421T102615
DTSTART;TZID=UTC:20260929T102600
DTEND;TZID=UTC:20260929T102600
SUMMARY:Andacht mit Robert Colditz (Pfr. Johannes Wittich)
LOCATION:
DESCRIPTION:Text für Andacht und Gebet von Robert Colditz\, Pfr. Johannes Wittich steht für ein seelsorgerliches Gespräch zur Verfügung. GastgeberIn\: OrganistIn\: Kein Organist Gemeindekaffee\: Kein Gemeindekaffee &nbsp\;
END:VEVENT
END:VCALENDAR
