BEGIN:VCALENDAR
VERSION:2.0
PRODID:Imitheme.com 
BEGIN:VEVENT
UID:20260421T1026141524725234
DTSTAMP;TZID=UTC:20260421T102614
DTSTART;TZID=UTC:20260929T102600
DTEND;TZID=UTC:20260929T102600
SUMMARY:Penguin’s Club als Videokonferenz\, Verzeihung
LOCATION:
DESCRIPTION:Penguin’s Club wegen COVID-19 als Videokonferenz (für alle ab 13)\: Kontakt\: yvonne.chytil@chello.at Thema\: Verzeihung &nbsp\;
END:VEVENT
END:VCALENDAR
