BEGIN:VCALENDAR
VERSION:2.0
PRODID:Imitheme.com 
BEGIN:VEVENT
UID:20260420T134734144397853
DTSTAMP;TZID=UTC:20260420T134734
DTSTART;TZID=UTC:20260929T134700
DTEND;TZID=UTC:20260929T134700
SUMMARY:Leitungsteam
LOCATION:
DESCRIPTION:Besprechung des Leitungsteams &nbsp\;
END:VEVENT
END:VCALENDAR
