BEGIN:VCALENDAR
VERSION:2.0
PRODID:Imitheme.com 
BEGIN:VEVENT
UID:20260422T1105511314322118
DTSTAMP;TZID=UTC:20260422T110551
DTSTART;TZID=UTC:20260929T110500
DTEND;TZID=UTC:20260929T110500
SUMMARY:Leitungsteam
LOCATION:
DESCRIPTION:Besprechung des Leitungsteams &nbsp\;
END:VEVENT
END:VCALENDAR
