BEGIN:VCALENDAR
VERSION:2.0
PRODID:Imitheme.com 
BEGIN:VEVENT
UID:20260421T1024571485196562
DTSTAMP;TZID=UTC:20260421T102457
DTSTART;TZID=UTC:20260929T102400
DTEND;TZID=UTC:20260929T102400
SUMMARY:Presbyterium -  Besprechung (Videokonferenz)
LOCATION:
DESCRIPTION:Presbyterium - Besprechung per Videokonferenz (Organisator\: Thomas Schuster) &nbsp\;
END:VEVENT
END:VCALENDAR
