BEGIN:VCALENDAR
VERSION:2.0
PRODID:Imitheme.com 
BEGIN:VEVENT
UID:20260421T102528333649508
DTSTAMP;TZID=UTC:20260421T102528
DTSTART;TZID=UTC:20260929T102500
DTEND;TZID=UTC:20260929T102500
SUMMARY:Evangelischer Frühlingsball / Wegen COVID-19 ABGESAGT!
LOCATION:
DESCRIPTION:Wegen COVID-19 ABGESAGT!
END:VEVENT
END:VCALENDAR
