BEGIN:VCALENDAR
VERSION:2.0
PRODID:Imitheme.com 
BEGIN:VEVENT
UID:20260422T1106341273737527
DTSTAMP;TZID=UTC:20260422T110634
DTSTART;TZID=UTC:20260929T110600
DTEND;TZID=UTC:20260929T110600
SUMMARY:Sommer Flohmarkt / Wegen COVID-19 ABGESAGT!
LOCATION:
DESCRIPTION:Wegen COVID-19 ABGESAGT! &nbsp\;
END:VEVENT
END:VCALENDAR
