BEGIN:VCALENDAR
VERSION:2.0
PRODID:Imitheme.com 
BEGIN:VEVENT
UID:20260421T1026151669128387
DTSTAMP;TZID=UTC:20260421T102615
DTSTART;TZID=UTC:20260929T102600
DTEND;TZID=UTC:20260929T102600
SUMMARY:Aktive Senioren\: Lustiger Faschingsnachmittag
LOCATION:
DESCRIPTION:&nbsp\;
END:VEVENT
END:VCALENDAR
