BEGIN:VCALENDAR
VERSION:2.0
PRODID:Imitheme.com 
BEGIN:VEVENT
UID:20260422T110552405085482
DTSTAMP;TZID=UTC:20260422T110552
DTSTART;TZID=UTC:20260929T110500
DTEND;TZID=UTC:20260929T110500
SUMMARY:Literaturcafé / Wegen COVID-19 ABGESAGT!
LOCATION:
DESCRIPTION:Literaturcafé\: Wegen COVID-19 ABGESAGT! &nbsp\;
END:VEVENT
END:VCALENDAR
