BEGIN:VCALENDAR
VERSION:2.0
PRODID:Imitheme.com 
BEGIN:VEVENT
UID:20260422T1105411640187389
DTSTAMP;TZID=UTC:20260422T110541
DTSTART;TZID=UTC:20260929T110500
DTEND;TZID=UTC:20260929T110500
SUMMARY:Aktive Senioren\: Exkursion\: Kaiserliche Wagenburg / Wegen COVID-19 ABGESAGT!
LOCATION:
DESCRIPTION:Aktive Senioren\: Exkursion\: Kaiserliche Wagenburg Details und Anmeldung in der Pfarrkanzlei Schweglerstr. 39\, 1150 Wien. Wegen COVID-19 ABGESAGT! &nbsp\;
END:VEVENT
END:VCALENDAR
