BEGIN:VCALENDAR
VERSION:2.0
PRODID:Imitheme.com 
BEGIN:VEVENT
UID:20260421T1024421114319811
DTSTAMP;TZID=UTC:20260421T102442
DTSTART;TZID=UTC:20260929T102400
DTEND;TZID=UTC:20260929T102400
SUMMARY:Taiwanesischer Chor\, Chorprobe
LOCATION:
DESCRIPTION:Chorprobe des taiwanesischen Chors &nbsp\;
END:VEVENT
END:VCALENDAR
