BEGIN:VCALENDAR
VERSION:2.0
PRODID:Imitheme.com 
BEGIN:VEVENT
UID:20260421T1025081476475512
DTSTAMP;TZID=UTC:20260421T102508
DTSTART;TZID=UTC:20260929T102500
DTEND;TZID=UTC:20260929T102500
SUMMARY:Taiwanesischer Chor\, Chorprobe / Wegen COVID-19 ABGESAGT!
LOCATION:
DESCRIPTION:Chorprobe des taiwanesischen Chors / Wegen COVID-19 ABGESAGT! &nbsp\;
END:VEVENT
END:VCALENDAR
