BEGIN:VCALENDAR
VERSION:2.0
PRODID:Imitheme.com 
BEGIN:VEVENT
UID:20260421T1025282112377767
DTSTAMP;TZID=UTC:20260421T102528
DTSTART;TZID=UTC:20260929T102500
DTEND;TZID=UTC:20260929T102500
SUMMARY:Taiwanesischer Chor\, Chorprobe
LOCATION:
DESCRIPTION:Chorprobe des taiwanesischen Chors &nbsp\;
END:VEVENT
END:VCALENDAR
