BEGIN:VCALENDAR
VERSION:2.0
PRODID:Imitheme.com 
BEGIN:VEVENT
UID:20260422T1106321063283133
DTSTAMP;TZID=UTC:20260422T110632
DTSTART;TZID=UTC:20260929T110600
DTEND;TZID=UTC:20260929T110600
SUMMARY:Gottesdienst\, gestaltet vom Besuchskreis
LOCATION:
DESCRIPTION:mit Gerti Rohrmoser und Ursula Kratky GastgeberIn\: F. Radner OrganistIn\: J. Schleehahn Gemeindekaffee\: E. Baumgartner &nbsp\;
END:VEVENT
END:VCALENDAR
