BEGIN:VCALENDAR
VERSION:2.0
PRODID:Imitheme.com 
BEGIN:VEVENT
UID:20260421T102456493850469
DTSTAMP;TZID=UTC:20260421T102456
DTSTART;TZID=UTC:20260929T102400
DTEND;TZID=UTC:20260929T102400
SUMMARY:Seniorenclub
LOCATION:
DESCRIPTION:Seniorenclub &nbsp\;
END:VEVENT
END:VCALENDAR
