BEGIN:VCALENDAR
VERSION:2.0
PRODID:Imitheme.com 
BEGIN:VEVENT
UID:20260421T1026141002589072
DTSTAMP;TZID=UTC:20260421T102614
DTSTART;TZID=UTC:20260929T102600
DTEND;TZID=UTC:20260929T102600
SUMMARY:Seniorenclub
LOCATION:
DESCRIPTION:Seniorenclub &nbsp\;
END:VEVENT
END:VCALENDAR
