BEGIN:VCALENDAR
VERSION:2.0
PRODID:Imitheme.com 
BEGIN:VEVENT
UID:20260421T1025271644402525
DTSTAMP;TZID=UTC:20260421T102527
DTSTART;TZID=UTC:20260929T102500
DTEND;TZID=UTC:20260929T102500
SUMMARY:Alternatives Glaubensgespräch – Zweifeln und Glauben
LOCATION:
DESCRIPTION:Alternatives Glaubensgespräch – Zweifeln und Glauben &nbsp\;
END:VEVENT
END:VCALENDAR
