BEGIN:VCALENDAR
VERSION:2.0
PRODID:Imitheme.com 
BEGIN:VEVENT
UID:20260420T134731730236272
DTSTAMP;TZID=UTC:20260420T134731
DTSTART;TZID=UTC:20260929T134700
DTEND;TZID=UTC:20260929T134700
SUMMARY:Klausur PB und Diakonium / Wegen COVID-19 ABGESAGT / verschoben.
LOCATION:
DESCRIPTION:Klausur PB und Diakonium Wegen COVID-19 ABGESAGT / verschoben. &nbsp\;
END:VEVENT
END:VCALENDAR
