BEGIN:VCALENDAR
VERSION:2.0
PRODID:Imitheme.com 
BEGIN:VEVENT
UID:20260421T102529642053552
DTSTAMP;TZID=UTC:20260421T102529
DTSTART;TZID=UTC:20260929T102500
DTEND;TZID=UTC:20260929T102500
SUMMARY:Frauen-Bibelgespräche
LOCATION:
DESCRIPTION:Dienstags\, um 16 Uhr im Gemeindesaal. Wir beschäftigen uns mit Grundfragen des Glaubens. Herzliche Einladung! &nbsp\;
END:VEVENT
END:VCALENDAR
