BEGIN:VCALENDAR
VERSION:2.0
PRODID:Imitheme.com 
BEGIN:VEVENT
UID:20260421T1026142090445775
DTSTAMP;TZID=UTC:20260421T102614
DTSTART;TZID=UTC:20260929T102600
DTEND;TZID=UTC:20260929T102600
SUMMARY:Reise nach Sarajevo mit \"Interreligiösem Dialog\" / Wegen COVID-19 verschoben
LOCATION:
DESCRIPTION:Wegen der Unsicherheit beim Reisen (Covid-19) ist die gemeinsame Reise nach Sarajevo auf unbestimmte Zeit verschoben. Wegen COVID-19 verschoben. &nbsp\;
END:VEVENT
END:VCALENDAR
