BEGIN:VCALENDAR
VERSION:2.0
PRODID:Imitheme.com 
BEGIN:VEVENT
UID:20260422T1105412051492521
DTSTAMP;TZID=UTC:20260422T110541
DTSTART;TZID=UTC:20260929T110500
DTEND;TZID=UTC:20260929T110500
SUMMARY:Ökumenischer Gottesdienst erinnert an Novemberpogrome 1938
LOCATION:
DESCRIPTION:&nbsp\; Gedenkveranstaltungen erinnern an Novemberpogrome 1938. Ökumenischer Gottesdienst in der Wiener Ruprechtskirche am 9. November um 17 Uhr\, an dem der lutherische Bischof Michael Chalupka sowie hochrangige Vertreter der katholischen und orthodoxen Kirche teilnehmen. &nbsp\;
END:VEVENT
END:VCALENDAR
