BEGIN:VCALENDAR
VERSION:2.0
PRODID:Imitheme.com 
BEGIN:VEVENT
UID:20260421T1025071023548674
DTSTAMP;TZID=UTC:20260421T102507
DTSTART;TZID=UTC:20260929T102500
DTEND;TZID=UTC:20260929T102500
SUMMARY:Besuch der KonfirmandInnen und Konfirmierten aus Bregenz
LOCATION:
DESCRIPTION:Besuch der KonfirmandInnen und Konfirmierten aus Bregenz … … bei uns und in der Pfarrgemeinde H.B. Wien West. Im Frühjahr waren wir in Bregenz und Zürich zu Besuch\, jetzt kommen die Bregenzer zu uns. &nbsp\;
END:VEVENT
END:VCALENDAR
