BEGIN:VCALENDAR
VERSION:2.0
PRODID:Imitheme.com 
BEGIN:VEVENT
UID:20260422T110551506507937
DTSTAMP;TZID=UTC:20260422T110551
DTSTART;TZID=UTC:20260929T110500
DTEND;TZID=UTC:20260929T110500
SUMMARY:Gottesdienst mit Pfr.i.R. Karl Weinberger mit AM und Kindergottesdienst
LOCATION:
DESCRIPTION:Mit Pfr.i.R. Karl Weinberger\, mit Abendmahl und Kindergottesdienst &nbsp\;
END:VEVENT
END:VCALENDAR
