BEGIN:VCALENDAR
VERSION:2.0
PRODID:Imitheme.com 
BEGIN:VEVENT
UID:20260421T102616687727269
DTSTAMP;TZID=UTC:20260421T102616
DTSTART;TZID=UTC:20260929T102600
DTEND;TZID=UTC:20260929T102600
SUMMARY:Gottesdienst mit Ulrich Körtner
LOCATION:
DESCRIPTION:mit Ulrich Körtner &nbsp\;
END:VEVENT
END:VCALENDAR
