BEGIN:VCALENDAR
VERSION:2.0
PRODID:Imitheme.com 
BEGIN:VEVENT
UID:20260421T102528340889864
DTSTAMP;TZID=UTC:20260421T102528
DTSTART;TZID=UTC:20260929T102500
DTEND;TZID=UTC:20260929T102500
SUMMARY:Gottesdienst mit Pfr.i.R. Johann Ulreich
LOCATION:
DESCRIPTION:Mit Pfr.i.R. Johann Ulreich\,  mit anschließendem “Sing Along” von Weihnachtsliedern &nbsp\;
END:VEVENT
END:VCALENDAR
