BEGIN:VCALENDAR
VERSION:2.0
PRODID:Imitheme.com 
BEGIN:VEVENT
UID:20260420T1427391752200258
DTSTAMP;TZID=UTC:20260420T142739
DTSTART;TZID=UTC:20260929T142700
DTEND;TZID=UTC:20260929T142700
SUMMARY:Alternatives Glaubensgespräch – Zweifeln und Glauben
LOCATION:
DESCRIPTION:Alternatives Glaubensgespräch – Zweifeln und Glauben &nbsp\;
END:VEVENT
END:VCALENDAR
