BEGIN:VCALENDAR
VERSION:2.0
PRODID:Imitheme.com 
BEGIN:VEVENT
UID:20260421T1025291715441437
DTSTAMP;TZID=UTC:20260421T102529
DTSTART;TZID=UTC:20260929T102500
DTEND;TZID=UTC:20260929T102500
SUMMARY:Besuch in der Synagoge
LOCATION:
DESCRIPTION:23.09. oder 07.10. Besuch in der Synagoge\, 1010 Wien
END:VEVENT
END:VCALENDAR
