BEGIN:VCALENDAR
VERSION:2.0
PRODID:Imitheme.com 
BEGIN:VEVENT
UID:20260422T1105521393648025
DTSTAMP;TZID=UTC:20260422T110552
DTSTART;TZID=UTC:20260929T110500
DTEND;TZID=UTC:20260929T110500
SUMMARY:Gottesdienst
LOCATION:
DESCRIPTION:Kein Gottesdienst in der Erlöserkirche. Gottesdienste gibt es in der Gnadenkirche\: 09\:30 Uhr\, Hermann Lenzenweger Reformierte Stadtkirche\: 10\:00 Uhr\, Réka Juhász Zwinglikirche\: 10\:00 Naemi Schmit-Stutz &nbsp\;
END:VEVENT
END:VCALENDAR
