BEGIN:VCALENDAR
VERSION:2.0
PRODID:Imitheme.com 
BEGIN:VEVENT
UID:20260425T1218351085962572
DTSTAMP;TZID=UTC:20260425T121835
DTSTART;TZID=UTC:20210606T121800
DTEND;TZID=UTC:20210606T121800
SUMMARY:3. Session der XV. Generalsynode
LOCATION:
DESCRIPTION:3. Session der XV. Generalsynode &nbsp\;
END:VEVENT
END:VCALENDAR
