BEGIN:VCALENDAR
VERSION:2.0
PRODID:Imitheme.com 
BEGIN:VEVENT
UID:20260422T2145291980998766
DTSTAMP;TZID=UTC:20260422T214529
DTSTART;TZID=UTC:20210122T214500
DTEND;TZID=UTC:20210122T214500
SUMMARY:Penguin’s Club\, Sakramente\, hä? / online
LOCATION:
DESCRIPTION:Penguin’s Club\: Thema\: Sakramente\, hä? Wegen COVID-19 online.   &nbsp\;
END:VEVENT
END:VCALENDAR
