BEGIN:VCALENDAR
VERSION:2.0
PRODID:Imitheme.com 
BEGIN:VEVENT
UID:20260422T124023472463973
DTSTAMP;TZID=UTC:20260422T124023
DTSTART;TZID=UTC:20201210T124000
DTEND;TZID=UTC:20201210T124000
SUMMARY:Besuchskreis / Wegen COVID-19 ABGESAGT
LOCATION:
DESCRIPTION:InteressentInnen mögen sich bitte zwecks vorheriger Rücksprache mit Ursula Kratky über die Pfarrkanzlei in Verbindung setzen. Wegen COVID-19 ABGESAGT. &nbsp\;
END:VEVENT
END:VCALENDAR
