BEGIN:VCALENDAR
VERSION:2.0
PRODID:Imitheme.com 
BEGIN:VEVENT
UID:20260422T1240461526908850
DTSTAMP;TZID=UTC:20260422T124046
DTSTART;TZID=UTC:20200929T124000
DTEND;TZID=UTC:20200929T124000
SUMMARY:Ungarische Bibelstunde
LOCATION:
DESCRIPTION:Wir treffen uns mit Pfr. Károly Nagy\, immer Dienstags in unserem Gemeindesaal.
END:VEVENT
END:VCALENDAR
