BEGIN:VCALENDAR
VERSION:2.0
PRODID:Imitheme.com 
BEGIN:VEVENT
UID:20260425T1217581844425891
DTSTAMP;TZID=UTC:20260425T121758
DTSTART;TZID=UTC:20191011T121700
DTEND;TZID=UTC:20191011T121700
SUMMARY:Penguin’s Club\: Wohin führt der Weg?
LOCATION:
DESCRIPTION:Penguin’s Club Thema\: Wohin führt der Weg? anschließend Wii-Spiele-Abend &nbsp\;
END:VEVENT
END:VCALENDAR
